BEGIN:VCALENDAR
VERSION:2.0
PRODID:-//audubon-omaha.org//NONSGML kigkonsult.se iCalcreator 2.30.10//
CALSCALE:GREGORIAN
METHOD:PUBLISH
UID:5094c8d5-03fa-465a-b9fa-c992917828a0
X-WR-CALDESC:Tour the new Baldwin Wildlife Center at Nebraska Wildlife Reha
 b with Laura Stastny. Registration is limited to 30 people – attendees MUS
 T register. Masks are required to attend this indoor event.\n
X-WR-RELCALID:a646d96114fb72101b21ac61c7fac6b2
X-WR-TIMEZONE:America/Chicago
BEGIN:VTIMEZONE
TZID:America/Chicago
BEGIN:STANDARD
TZNAME:CST
DTSTART:20211107T020000
TZOFFSETFROM:-0500
TZOFFSETTO:-0600
RDATE:20221106T020000
END:STANDARD
BEGIN:DAYLIGHT
TZNAME:CDT
DTSTART:20220313T020000
TZOFFSETFROM:-0600
TZOFFSETTO:-0500
RDATE:20230312T020000
END:DAYLIGHT
END:VTIMEZONE
BEGIN:VEVENT
UID:b3e8dac0-aad9-4eb9-bde5-e2176cbd0b8e
DTSTAMP:20260422T135700Z
DESCRIPTION:Tour the new Baldwin Wildlife Center at Nebraska Wildlife Rehab
  with Laura Stastny. Registration is limited to 30 people – attendees MUST
  register. Masks are required to attend this indoor event.\n
DTSTART;TZID=America/Chicago:20220319T130000
DTEND;TZID=America/Chicago:20220319T150000
LOCATION:
SUMMARY:Field Trip: Tour of new Baldwin Wildlife Center at Nebraska Wildlif
 e Rehab
END:VEVENT
END:VCALENDAR
