BEGIN:VCALENDAR
VERSION:2.0
PRODID:-//audubon-omaha.org//NONSGML kigkonsult.se iCalcreator 2.30.10//
CALSCALE:GREGORIAN
METHOD:PUBLISH
UID:e9e22cda-711e-4bc3-b15d-6e49794e663b
X-WR-CALDESC:
X-WR-RELCALID:758311de98162c6523a47a62116d4af1
X-WR-TIMEZONE:America/Chicago
BEGIN:VTIMEZONE
TZID:America/Chicago
BEGIN:STANDARD
TZNAME:CST
DTSTART:20211107T020000
TZOFFSETFROM:-0500
TZOFFSETTO:-0600
RDATE:20221106T020000
END:STANDARD
BEGIN:DAYLIGHT
TZNAME:CDT
DTSTART:20220313T020000
TZOFFSETFROM:-0600
TZOFFSETTO:-0500
RDATE:20230312T020000
END:DAYLIGHT
END:VTIMEZONE
BEGIN:VEVENT
UID:105a47b0-f1bd-4734-84a6-426a00461196
DTSTAMP:20260422T122732Z
DESCRIPTION:
DTSTART;TZID=America/Chicago:20220411T000000
DTEND;TZID=America/Chicago:20220411T235900
LOCATION:
SUMMARY:2022 Virtual Student Art Show
END:VEVENT
END:VCALENDAR
