BEGIN:VCALENDAR
VERSION:2.0
PRODID:-//audubon-omaha.org//NONSGML kigkonsult.se iCalcreator 2.30.10//
CALSCALE:GREGORIAN
METHOD:PUBLISH
UID:0f6a87d2-f170-4bfa-a42d-4da43b447104
X-WR-CALDESC:We will meet in the Neale Woods parking lot..  Bring a water b
 ottle\, sun hat\, bucket/ice cream bucket for collection\, gardening glove
 s\, and hand shears if you have them.
X-WR-RELCALID:461362bb8b04f0dcf1fda9454fbc63d0
X-WR-TIMEZONE:America/Chicago
BEGIN:VTIMEZONE
TZID:America/Chicago
BEGIN:STANDARD
TZNAME:CST
DTSTART:20211107T020000
TZOFFSETFROM:-0500
TZOFFSETTO:-0600
RDATE:20221106T020000
RDATE:20231105T020000
END:STANDARD
BEGIN:DAYLIGHT
TZNAME:CDT
DTSTART:20220313T020000
TZOFFSETFROM:-0600
TZOFFSETTO:-0500
RDATE:20230312T020000
RDATE:20240310T020000
END:DAYLIGHT
END:VTIMEZONE
BEGIN:VEVENT
UID:94d2fe35-9062-40e4-bd43-8238b280f3ab
DTSTAMP:20260422T021049Z
DESCRIPTION:We will meet in the Neale Woods parking lot..  Bring a water bo
 ttle\, sun hat\, bucket/ice cream bucket for collection\, gardening gloves
 \, and hand shears if you have them.
DTSTART;TZID=America/Chicago:20221015T083000
DTEND;TZID=America/Chicago:20221015T113000
LOCATION:14323 Edith Marie Avenue\, Omaha\, NE 68112 US
SUMMARY:Seed Collection at Neale Woods
END:VEVENT
END:VCALENDAR
