BEGIN:VCALENDAR
VERSION:2.0
PRODID:-//audubon-omaha.org//NONSGML kigkonsult.se iCalcreator 2.30.10//
CALSCALE:GREGORIAN
METHOD:PUBLISH
UID:985c86c7-0171-4d42-9693-ecd3d283c52d
X-WR-CALDESC:Last day to pick up your bird seed order Sunday\, October 16\,
  Noon - 5pm.
X-WR-RELCALID:1202096c84b5b515c314a5071afdf804
X-WR-TIMEZONE:America/Chicago
BEGIN:VTIMEZONE
TZID:America/Chicago
BEGIN:STANDARD
TZNAME:CST
DTSTART:20211107T020000
TZOFFSETFROM:-0500
TZOFFSETTO:-0600
RDATE:20221106T020000
RDATE:20231105T020000
END:STANDARD
BEGIN:DAYLIGHT
TZNAME:CDT
DTSTART:20220313T020000
TZOFFSETFROM:-0600
TZOFFSETTO:-0500
RDATE:20230312T020000
RDATE:20240310T020000
END:DAYLIGHT
END:VTIMEZONE
BEGIN:VEVENT
UID:290d4101-ae4a-4670-8171-c2b3809f72ad
DTSTAMP:20260422T021008Z
DESCRIPTION:Last day to pick up your bird seed order Sunday\, October 16\, 
 Noon - 5pm.
DTSTART;TZID=America/Chicago:20221016T120000
DTEND;TZID=America/Chicago:20221016T170000
LOCATION:4339 S. 90th Street\, Omaha\, NE 68127 US
SUMMARY:Bird Seed Order Pickup
END:VEVENT
END:VCALENDAR
