BEGIN:VCALENDAR
VERSION:2.0
PRODID:-//audubon-omaha.org//NONSGML kigkonsult.se iCalcreator 2.30.10//
CALSCALE:GREGORIAN
METHOD:PUBLISH
UID:14d13209-02a5-4766-8e86-58bf7aa1ba68
X-WR-CALDESC:Due to weather concerns\, this field trip has been postponed. 
 Stay tuned!  Join the Saw-whet Owl banding team and lend a hand at the Hit
 chcock Nature Center. Space is limited to 20 people\, so register now. And
  bring a camp chair!
X-WR-RELCALID:43ec514acd5a65e35401dc729a79bd49
X-WR-TIMEZONE:America/Chicago
BEGIN:VTIMEZONE
TZID:America/Chicago
BEGIN:STANDARD
TZNAME:CST
DTSTART:20211107T020000
TZOFFSETFROM:-0500
TZOFFSETTO:-0600
RDATE:20221106T020000
RDATE:20231105T020000
END:STANDARD
BEGIN:DAYLIGHT
TZNAME:CDT
DTSTART:20220313T020000
TZOFFSETFROM:-0600
TZOFFSETTO:-0500
RDATE:20230312T020000
RDATE:20240310T020000
END:DAYLIGHT
END:VTIMEZONE
BEGIN:VEVENT
UID:0b11f971-e9af-419e-9859-48882c55d87d
DTSTAMP:20260422T001710Z
DESCRIPTION:Due to weather concerns\, this field trip has been postponed. S
 tay tuned!  Join the Saw-whet Owl banding team and lend a hand at the Hitc
 hcock Nature Center. Space is limited to 20 people\, so register now. And 
 bring a camp chair!
DTSTART;TZID=America/Chicago:20221104T190000
DTEND;TZID=America/Chicago:20221104T210000
LOCATION:Hitchcock Nature Center Barn\, 27792 Ski Hill Loop\, Honey Creek\,
  IA 51542 US
SUMMARY:POSTPONED Field Trip: Saw-whet Owl Banding at Hitchcock
END:VEVENT
END:VCALENDAR
