BEGIN:VCALENDAR
VERSION:2.0
PRODID:-//audubon-omaha.org//NONSGML kigkonsult.se iCalcreator 2.30.10//
CALSCALE:GREGORIAN
METHOD:PUBLISH
UID:4f1972bc-8671-4995-afbb-9367416df1fa
X-WR-CALDESC:Join us for an online program about The Ultimate Winter Bird S
 urvey: Summary of the First Ever Christmas Bird Count Marathon with Kelly 
 McKay of the BioEco Research and Monitoring Center and Mark Roberts with N
 ahant Marsh. Be sure to register in order to receive the Zoom meeting link
 .
X-WR-RELCALID:b831e1bd50d8ac49cb1094f55f7aab3c
X-WR-TIMEZONE:America/Chicago
BEGIN:VTIMEZONE
TZID:America/Chicago
BEGIN:STANDARD
TZNAME:CST
DTSTART:20221106T020000
TZOFFSETFROM:-0500
TZOFFSETTO:-0600
RDATE:20231105T020000
END:STANDARD
BEGIN:DAYLIGHT
TZNAME:CDT
DTSTART:20220313T020000
TZOFFSETFROM:-0600
TZOFFSETTO:-0500
RDATE:20230312T020000
RDATE:20240310T020000
END:DAYLIGHT
END:VTIMEZONE
BEGIN:VEVENT
UID:e80ecb97-90fd-48c6-84b6-18a978a3df42
DTSTAMP:20260421T223240Z
DESCRIPTION:Join us for an online program about The Ultimate Winter Bird Su
 rvey: Summary of the First Ever Christmas Bird Count Marathon with Kelly M
 cKay of the BioEco Research and Monitoring Center and Mark Roberts with Na
 hant Marsh. Be sure to register in order to receive the Zoom meeting link.
DTSTART;TZID=America/Chicago:20221208T190000
DTEND;TZID=America/Chicago:20221208T200000
LOCATION:
SUMMARY:Member Meeting: The Ultimate Winter Bird Survey: Summary of the Fir
 st Ever Christmas Bird Count Marathon
END:VEVENT
END:VCALENDAR
