BEGIN:VCALENDAR
VERSION:2.0
PRODID:-//audubon-omaha.org//NONSGML kigkonsult.se iCalcreator 2.30.10//
CALSCALE:GREGORIAN
METHOD:PUBLISH
UID:7a6a60dc-d204-40cb-976a-529da718cddd
X-WR-CALDESC:All Audubon Society of Omaha (ASO) Members are welcome to atte
 nd board meetings. Board meetings are held on the first Tuesday of the mon
 th (September - June) at 7pm at our main office located 4339 S. 90th Stree
 t\, Omaha\, NE (unless otherwise noted).  \n\n
X-WR-RELCALID:45511863bd0ad47e27d25365d554dbb1
X-WR-TIMEZONE:America/Chicago
BEGIN:VTIMEZONE
TZID:America/Chicago
BEGIN:STANDARD
TZNAME:CST
DTSTART:20221106T020000
TZOFFSETFROM:-0500
TZOFFSETTO:-0600
RDATE:20231105T020000
END:STANDARD
BEGIN:DAYLIGHT
TZNAME:CDT
DTSTART:20220313T020000
TZOFFSETFROM:-0600
TZOFFSETTO:-0500
RDATE:20230312T020000
RDATE:20240310T020000
END:DAYLIGHT
END:VTIMEZONE
BEGIN:VEVENT
UID:bc38477c-5b70-4c14-afca-e98310e15bf2
DTSTAMP:20260421T204659Z
DESCRIPTION:All Audubon Society of Omaha (ASO) Members are welcome to atten
 d board meetings. Board meetings are held on the first Tuesday of the mont
 h (September - June) at 7pm at our main office located 4339 S. 90th Street
 \, Omaha\, NE (unless otherwise noted).  \n\n
DTSTART;TZID=America/Chicago:20230103T190000
DTEND;TZID=America/Chicago:20230103T200000
LOCATION:4339 S 90th St.\, Omaha\, NE 68127 US
SUMMARY:Cancelled: January Board Meeting
END:VEVENT
END:VCALENDAR
