BEGIN:VCALENDAR
VERSION:2.0
PRODID:-//audubon-omaha.org//NONSGML kigkonsult.se iCalcreator 2.30.10//
CALSCALE:GREGORIAN
METHOD:PUBLISH
UID:e95e1fa2-a065-4838-8a08-1e586034f530
X-WR-CALDESC:All Audubon Society of Omaha (ASO) Members are welcome to atte
 nd board meetings. Board meetings are held on the first Tuesday of the mon
 th (September - June) at 7pm at our main office located 4339 S. 90th Stree
 t\, Omaha\, NE (unless otherwise noted).  \n\n
X-WR-RELCALID:71a8f92af7b3f3f298994d8045a14e3c
X-WR-TIMEZONE:America/Chicago
BEGIN:VTIMEZONE
TZID:America/Chicago
BEGIN:STANDARD
TZNAME:CST
DTSTART:20221106T020000
TZOFFSETFROM:-0500
TZOFFSETTO:-0600
RDATE:20231105T020000
END:STANDARD
BEGIN:DAYLIGHT
TZNAME:CDT
DTSTART:20220313T020000
TZOFFSETFROM:-0600
TZOFFSETTO:-0500
RDATE:20230312T020000
RDATE:20240310T020000
END:DAYLIGHT
END:VTIMEZONE
BEGIN:VEVENT
UID:3facb02a-cc5b-4cb3-8da9-7c42788f7098
DTSTAMP:20260421T193002Z
DESCRIPTION:All Audubon Society of Omaha (ASO) Members are welcome to atten
 d board meetings. Board meetings are held on the first Tuesday of the mont
 h (September - June) at 7pm at our main office located 4339 S. 90th Street
 \, Omaha\, NE (unless otherwise noted).  \n\n
DTSTART;TZID=America/Chicago:20230207T190000
DTEND;TZID=America/Chicago:20230207T200000
LOCATION:4339 S 90th St.\, Omaha\, NE 68127 US
SUMMARY:February Board Meeting
END:VEVENT
END:VCALENDAR
