BEGIN:VCALENDAR
VERSION:2.0
PRODID:-//audubon-omaha.org//NONSGML kigkonsult.se iCalcreator 2.30.10//
CALSCALE:GREGORIAN
METHOD:PUBLISH
UID:1f1408c0-ba84-4676-8444-a118f6ae421e
X-WR-CALDESC:Visit us at Audubon Society of Omaha's booth at Earth Day Omah
 a!\nThis day will be packed with music\, demonstrations\, food\, and fun f
 or the entire family. \nSee links below for more information.
X-WR-RELCALID:f18c03acbf9079b13eea85988ec53335
X-WR-TIMEZONE:America/Chicago
BEGIN:VTIMEZONE
TZID:America/Chicago
BEGIN:STANDARD
TZNAME:CST
DTSTART:20221106T020000
TZOFFSETFROM:-0500
TZOFFSETTO:-0600
RDATE:20231105T020000
END:STANDARD
BEGIN:DAYLIGHT
TZNAME:CDT
DTSTART:20230312T020000
TZOFFSETFROM:-0600
TZOFFSETTO:-0500
RDATE:20240310T020000
END:DAYLIGHT
END:VTIMEZONE
BEGIN:VEVENT
UID:b01715bc-35dc-48d2-a720-64f37b13f2a4
DTSTAMP:20260421T160026Z
DESCRIPTION:Visit us at Audubon Society of Omaha's booth at Earth Day Omaha
 !\nThis day will be packed with music\, demonstrations\, food\, and fun fo
 r the entire family. \nSee links below for more information.
DTSTART;TZID=America/Chicago:20230422T110000
DTEND;TZID=America/Chicago:20230422T180000
LOCATION:Elmwood Park\, Omaha\, NE 68106 US
SUMMARY:Earth Day Omaha
END:VEVENT
END:VCALENDAR
